BEGIN:VCALENDAR
VERSION:2.0
PRODID:-//Centre RBC d&#039;expertise universitaire - ECPv6.15.20//NONSGML v1.0//EN
CALSCALE:GREGORIAN
METHOD:PUBLISH
X-ORIGINAL-URL:https://sante-mentale-jeunesse.usherbrooke.ca/en/
X-WR-CALDESC:Events for Centre RBC d&#039;expertise universitaire
REFRESH-INTERVAL;VALUE=DURATION:PT1H
X-Robots-Tag:noindex
X-PUBLISHED-TTL:PT1H
BEGIN:VTIMEZONE
TZID:America/New_York
BEGIN:DAYLIGHT
TZOFFSETFROM:-0500
TZOFFSETTO:-0400
TZNAME:EDT
DTSTART:20230312T070000
END:DAYLIGHT
BEGIN:STANDARD
TZOFFSETFROM:-0400
TZOFFSETTO:-0500
TZNAME:EST
DTSTART:20231105T060000
END:STANDARD
BEGIN:DAYLIGHT
TZOFFSETFROM:-0500
TZOFFSETTO:-0400
TZNAME:EDT
DTSTART:20240310T070000
END:DAYLIGHT
BEGIN:STANDARD
TZOFFSETFROM:-0400
TZOFFSETTO:-0500
TZNAME:EST
DTSTART:20241103T060000
END:STANDARD
BEGIN:DAYLIGHT
TZOFFSETFROM:-0500
TZOFFSETTO:-0400
TZNAME:EDT
DTSTART:20250309T070000
END:DAYLIGHT
BEGIN:STANDARD
TZOFFSETFROM:-0400
TZOFFSETTO:-0500
TZNAME:EST
DTSTART:20251102T060000
END:STANDARD
END:VTIMEZONE
BEGIN:VTIMEZONE
TZID:America/Toronto
BEGIN:DAYLIGHT
TZOFFSETFROM:-0500
TZOFFSETTO:-0400
TZNAME:EDT
DTSTART:20230312T070000
END:DAYLIGHT
BEGIN:STANDARD
TZOFFSETFROM:-0400
TZOFFSETTO:-0500
TZNAME:EST
DTSTART:20231105T060000
END:STANDARD
BEGIN:DAYLIGHT
TZOFFSETFROM:-0500
TZOFFSETTO:-0400
TZNAME:EDT
DTSTART:20240310T070000
END:DAYLIGHT
BEGIN:STANDARD
TZOFFSETFROM:-0400
TZOFFSETTO:-0500
TZNAME:EST
DTSTART:20241103T060000
END:STANDARD
BEGIN:DAYLIGHT
TZOFFSETFROM:-0500
TZOFFSETTO:-0400
TZNAME:EDT
DTSTART:20250309T070000
END:DAYLIGHT
BEGIN:STANDARD
TZOFFSETFROM:-0400
TZOFFSETTO:-0500
TZNAME:EST
DTSTART:20251102T060000
END:STANDARD
END:VTIMEZONE
BEGIN:VEVENT
DTSTART;TZID=America/New_York:20240404T130000
DTEND;TZID=America/New_York:20240404T143000
DTSTAMP:20260421T201544
CREATED:20231212T133528Z
LAST-MODIFIED:20231212T133547Z
UID:10000636-1712235600-1712241000@sante-mentale-jeunesse.usherbrooke.ca
SUMMARY:Formation à l’animation du volet HORS-PISTE Orientation
DESCRIPTION:Formation à l’animation du volet HORS-PISTE Orientation \nATTENTION: Cette présentation de 1h30 est destinée aux intervenant(e)s scolaires qui souhaitent animer le volet HORS-PISTE Orientation auprès de leurs élèves. Notez bien: ce programme doit être animé par une personne professionnelle de l’orientation et peut être coanimé avec une personne intervenante scolaire. \nElle vise à vous familiariser avec le contenu et le matériel de ce volet et vous donner les outils nécessaires pour pouvoir l’animer auprès de vos élèves. \nPour vous inscrire à cette présentation\, cliquez ICI. Un lien zoom vous sera envoyé automatiquement.
URL:https://sante-mentale-jeunesse.usherbrooke.ca/en/evenement/formation-a-lanimation-du-volet-hors-piste-orientation-7/
END:VEVENT
BEGIN:VEVENT
DTSTART;TZID=America/New_York:20240408T090000
DTEND;TZID=America/New_York:20240408T120000
DTSTAMP:20260421T201544
CREATED:20240109T203748Z
LAST-MODIFIED:20240109T203913Z
UID:10000640-1712566800-1712577600@sante-mentale-jeunesse.usherbrooke.ca
SUMMARY:Formation des personnes animatrices pour HORS-PISTE Exploration - Prévention Universelle
DESCRIPTION:À qui cela s’adresse-t-il ?   \nCette formation de trois heures est offerte à toute personne désirant animer le volet Exploration – prévention universelle du programme HORS-PISTE.  \n Quel est le contenu ?  \nCette formation aborde la recherche en cours\, la pertinence\, les approches et les techniques d’animation du programme. Elle couvre le contenu des ateliers\, soit 5 ateliers en 1re secondaire et 5 ateliers en 2e secondaire.  \nAu final\, cette formation permet aux personnes animatrices de réduire leur temps d’appropriation et d’être mieux préparées à leur animation.  \n Pour vous inscrire\, cliquez ici et vous recevrez un courriel de confirmation d’inscription incluant le lien pour la rencontre.   \n *Cette formation est offerte par le CISSS de la Montérégie-Centre et nous vous invitons à visionner cette courte vidéo promotionnelle (5 minutes) : www.santemc.quebec/horspiste  \n Nous vous rappelons que l’implantation du programme HORS-PISTE est gratuite ainsi que le matériel d’animation.  \n 
URL:https://sante-mentale-jeunesse.usherbrooke.ca/en/evenement/formation-des-personnes-animatrices-pour-hors-piste-exploration-prevention-universelle-7/
CATEGORIES:Formation à l’animation du volet Exploration – prévention universelle
END:VEVENT
BEGIN:VEVENT
DTSTART;TZID=America/Toronto:20240409T090000
DTEND;TZID=America/Toronto:20240409T110000
DTSTAMP:20260421T201544
CREATED:20240110T182735Z
LAST-MODIFIED:20240110T182735Z
UID:10000644-1712653200-1712660400@sante-mentale-jeunesse.usherbrooke.ca
SUMMARY:Formation à l’animation de l’atelier L'anxiété chez nos enfants: que puis-je faire en tant que parent?
DESCRIPTION:ATTENTION: \nCette formation de 2 heures est destinée aux intervenant(e)s scolaires et leurs partenaires qui souhaitent animer l’atelier L’anxiété chez nos enfants: que puis-je faire en tant que parent? en présentiel. Elle vise à vous familiariser avec le contenu de cet atelier et vous donner les outils nécessaires pour pouvoir l’animer auprès des parents d’enfants et d’adolescents.Cette formation virtuelle dure 2 h. \nPour vous inscrire à cet atelier\, cliquez ICI et un lien Zoom vous sera envoyé.
URL:https://sante-mentale-jeunesse.usherbrooke.ca/en/evenement/formation-a-lanimation-de-latelier-lanxiete-chez-nos-enfants-que-puis-je-faire-en-tant-que-parent/
CATEGORIES:Formation à l'animation de l'atelier parents,Formation à l'animation de l'atelier parents
END:VEVENT
BEGIN:VEVENT
DTSTART;TZID=America/New_York:20240415T133000
DTEND;TZID=America/New_York:20240415T143000
DTSTAMP:20260421T201544
CREATED:20231109T190824Z
LAST-MODIFIED:20231109T191848Z
UID:10000609-1713187800-1713191400@sante-mentale-jeunesse.usherbrooke.ca
SUMMARY:Présentation du programme HORS-PISTE
DESCRIPTION:À qui cela s’adresse-t-il ?  \nGlobalement\, cette présentation d’une heure s’adresse à toute personne intéressée à en savoir plus sur le programme HORS-PISTE secondaire.  \nQuel est le contenu ?  \nNous vous présenterons la pertinence du programme\, ses retombées\, sa structure\, ses modalités d’implantation ainsi que la démarche d’accompagnement offerte.   \n Pour vous inscrire\, cliquez ici et vous recevrez un courriel de confirmation d’inscription incluant ou avec le lien pour la rencontre.   \n  \n*Cette présentation est offerte par le CISSS de la Montérégie-Centre et nous vous invitons à visionner cette courte vidéo promotionnelle (5 minutes) : www.santemc.quebec/horspiste  \n  \nNous vous rappelons que l’implantation du programme HORS-PISTE est gratuite ainsi que le matériel d’animation.  \n  \nProgramme HORS-PISTE\nCISSS de la Montérégie-Centre\nDirection des programmes jeunesses\nwww.santemc.quebec/horspiste
URL:https://sante-mentale-jeunesse.usherbrooke.ca/en/evenement/rencontre-de-presentation-du-programme-hors-piste-6/
CATEGORIES:Présentation du programme HORS-PISTE secondaire
END:VEVENT
BEGIN:VEVENT
DTSTART;TZID=America/Toronto:20240416T110000
DTEND;TZID=America/Toronto:20240416T120000
DTSTAMP:20260421T201544
CREATED:20240120T231312Z
LAST-MODIFIED:20240120T231312Z
UID:10000650-1713265200-1713268800@sante-mentale-jeunesse.usherbrooke.ca
SUMMARY:Présentation du programme HORS-PISTE préscolaire-primaire
DESCRIPTION:À qui cela s’adresse-t-il?    \nGlobalement\, cette présentation d’une heure s’adresse à toute personne intéressée à en savoir plus sur le programme HORS-PISTE préscolaire-primaire .   \n Quel est le contenu?    \nNous vous présenterons la pertinence du programme\, sa structure\, ses modalités d’implantation\, ses retombées\, ainsi que la démarche d’accompagnement offerte. Le programme et l’accompagnement sont gratuits   \n  \nPour vous inscrire à cette présentation\, cliquez ici. Un lien zoom vous sera envoyé automatiquement.  \n  \nSuite à cette présentation\, pour implanter le programme à votre école et avoir accès au contenu du matériel d’animation\, écrivez à horspiste.primaire.cisssmc16@ssss.gouv.qc.ca pour organiser une rencontre de planification.  \n  \n 
URL:https://sante-mentale-jeunesse.usherbrooke.ca/en/evenement/presentation-du-programme-hors-piste-prescolaire-primaire-10/
CATEGORIES:Présentation du programme HORS-PISTE préscolaire et primaire
ORGANIZER;CN="Caroline Marcoux":MAILTO:horspiste.primaire.cisssmc16@ssss.gouv.qc.ca
END:VEVENT
BEGIN:VEVENT
DTSTART;TZID=America/New_York:20240422T083000
DTEND;TZID=America/New_York:20240422T103000
DTSTAMP:20260421T201544
CREATED:20231103T191938Z
LAST-MODIFIED:20231103T191938Z
UID:10000597-1713774600-1713781800@sante-mentale-jeunesse.usherbrooke.ca
SUMMARY:Formation à l’animation de l’atelier L’anxiété chez nos élèves : que puis-je faire en tant que membre de l’équipe-école ? 
DESCRIPTION:Formation à l’animation de l’atelier L’anxiété chez nos élèves : que puis-je faire en tant que membre de l’équipe-école ?  \nATTENTION : Cette formation de deux heures est destinée aux intervenant(e)s scolaires ou de la DSPu qui souhaitent animer l’atelier L’anxiété chez nos élèves : que puis-je faire en tant que membre de l’équipe-école ? dans une école.  \nElle vise à vous familiariser avec le contenu de cet atelier et vous donner les outils nécessaires pour pouvoir l’animer auprès des membres de l’équipe-école.  \nPour vous inscrire\, cliquez ici  et vous recevrez un courriel de confirmation d’inscription incluant le lien pour la rencontre.  \n 
URL:https://sante-mentale-jeunesse.usherbrooke.ca/en/evenement/formation-a-lanimation-de-latelier-lanxiete-chez-nos-eleves-que-puis-je-faire-en-tant-que-membre-de-lequipe-ecole-25/
CATEGORIES:Formation à l'animation de l'atelier équipe-école: L'anxiété chez nos élèves,Formation à l’animation de l’atelier équipe-école: L'anxiété chez les élèves
END:VEVENT
BEGIN:VEVENT
DTSTART;TZID=America/Toronto:20240422T110000
DTEND;TZID=America/Toronto:20240422T120000
DTSTAMP:20260421T201544
CREATED:20231124T150643Z
LAST-MODIFIED:20231124T155729Z
UID:10000627-1713783600-1713787200@sante-mentale-jeunesse.usherbrooke.ca
SUMMARY:Formation à l’animation de l’atelier Cultiver son bien-être
DESCRIPTION:Cette formation d’une heure est destinée aux intervenant(e)s scolaires ou de la Direction de Santé Publique souhaitant animer l’atelier Cultiver son bien-être? dans une école.  \nElle vise à vous familiariser avec le contenu de cet atelier et vous donner les outils nécessaires pour pouvoir l’animer auprès des membres de l’équipe-école.  \nPour vous inscrire à cette formation\, cliquez ici et et vous recevrez un courriel de confirmation d’inscription incluant le lien pour la rencontre. 
URL:https://sante-mentale-jeunesse.usherbrooke.ca/en/evenement/formation-a-lanimation-de-latelier-cultiver-son-bien-etre-18/
CATEGORIES:Formation à l'animation de l'atelier équipe-école: Cultiver son bien-être,Formation à l’animation de l’atelier équipe-école: Cultiver son bien-être
END:VEVENT
END:VCALENDAR