BEGIN:VCALENDAR
VERSION:2.0
PRODID:-//Centre RBC d&#039;expertise universitaire - ECPv6.15.20//NONSGML v1.0//EN
CALSCALE:GREGORIAN
METHOD:PUBLISH
X-ORIGINAL-URL:https://sante-mentale-jeunesse.usherbrooke.ca/en/
X-WR-CALDESC:Events for Centre RBC d&#039;expertise universitaire
REFRESH-INTERVAL;VALUE=DURATION:PT1H
X-Robots-Tag:noindex
X-PUBLISHED-TTL:PT1H
BEGIN:VTIMEZONE
TZID:America/New_York
BEGIN:DAYLIGHT
TZOFFSETFROM:-0500
TZOFFSETTO:-0400
TZNAME:EDT
DTSTART:20230312T070000
END:DAYLIGHT
BEGIN:STANDARD
TZOFFSETFROM:-0400
TZOFFSETTO:-0500
TZNAME:EST
DTSTART:20231105T060000
END:STANDARD
BEGIN:DAYLIGHT
TZOFFSETFROM:-0500
TZOFFSETTO:-0400
TZNAME:EDT
DTSTART:20240310T070000
END:DAYLIGHT
BEGIN:STANDARD
TZOFFSETFROM:-0400
TZOFFSETTO:-0500
TZNAME:EST
DTSTART:20241103T060000
END:STANDARD
BEGIN:DAYLIGHT
TZOFFSETFROM:-0500
TZOFFSETTO:-0400
TZNAME:EDT
DTSTART:20250309T070000
END:DAYLIGHT
BEGIN:STANDARD
TZOFFSETFROM:-0400
TZOFFSETTO:-0500
TZNAME:EST
DTSTART:20251102T060000
END:STANDARD
END:VTIMEZONE
BEGIN:VEVENT
DTSTART;TZID=America/New_York:20240923T090000
DTEND;TZID=America/New_York:20240923T110000
DTSTAMP:20260423T183810
CREATED:20240709T201957Z
LAST-MODIFIED:20240709T204754Z
UID:10000664-1727082000-1727089200@sante-mentale-jeunesse.usherbrooke.ca
SUMMARY:Formation à l’animation de l’atelier L'anxiété chez nos enfants: que puis-je faire en tant que parent?
DESCRIPTION:ATTENTION: \nCette formation de 2 heures est destinée aux intervenant(e)s scolaires et leurs partenaires qui souhaitent animer l’atelier L’anxiété chez nos enfants: que puis-je faire en tant que parent? en présentiel. Elle vise à vous familiariser avec le contenu de cet atelier et vous donner les outils nécessaires pour pouvoir l’animer auprès des parents d’enfants et d’adolescents. Cette formation virtuelle dure 2 h. \nPour vous inscrire à cet atelier\, cliquez ICI et un lien Zoom vous sera envoyé.
URL:https://sante-mentale-jeunesse.usherbrooke.ca/en/evenement/formation-a-lanimation-de-latelier-lanxiete-chez-nos-enfants-que-puis-je-faire-en-tant-que-parent-2/
CATEGORIES:Formation à l'animation de l'atelier parents,Formation à l'animation de l'atelier parents
END:VEVENT
BEGIN:VEVENT
DTSTART;TZID=America/New_York:20240923T090000
DTEND;TZID=America/New_York:20240923T120000
DTSTAMP:20260423T183810
CREATED:20240709T213026Z
LAST-MODIFIED:20240709T213026Z
UID:10000685-1727082000-1727092800@sante-mentale-jeunesse.usherbrooke.ca
SUMMARY:Formation des personnes animatrices pour HORS-PISTE Exploration - Prévention Universelle
DESCRIPTION:À qui cela s’adresse-t-il ?   \nCette formation de trois heures est offerte à toute personne désirant animer le volet Exploration – prévention universelle du programme HORS-PISTE.  \n Quel est le contenu ?  \nCette formation aborde la recherche en cours\, la pertinence\, les approches et les techniques d’animation du programme. Elle couvre le contenu des ateliers\, soit 5 ateliers en 1re secondaire et 5 ateliers en 2e secondaire.  \nAu final\, cette formation permet aux personnes animatrices de réduire leur temps d’appropriation et d’être mieux préparées à leur animation.  \n Pour vous inscrire\, cliquez ici et vous recevrez un courriel de confirmation d’inscription incluant le lien pour la rencontre.   \n *Cette formation est offerte par le CISSS de la Montérégie-Centre et nous vous invitons à visionner cette courte vidéo promotionnelle (5 minutes) : www.santemc.quebec/horspiste  \n Nous vous rappelons que l’implantation du programme HORS-PISTE est gratuite ainsi que le matériel d’animation. 
URL:https://sante-mentale-jeunesse.usherbrooke.ca/en/evenement/formation-des-personnes-animatrices-pour-hors-piste-exploration-prevention-universelle-11/
CATEGORIES:Formation à l’animation du volet Exploration – prévention universelle
END:VEVENT
BEGIN:VEVENT
DTSTART;TZID=America/New_York:20240923T130000
DTEND;TZID=America/New_York:20240923T143000
DTSTAMP:20260423T183810
CREATED:20240807T185622Z
LAST-MODIFIED:20240808T170454Z
UID:10000696-1727096400-1727101800@sante-mentale-jeunesse.usherbrooke.ca
SUMMARY:Formation à l’animation du volet HORS-PISTE Orientation
DESCRIPTION:Formation à l’animation du volet HORS-PISTE Orientation \nATTENTION: Cette présentation de 1h30 est destinée aux intervenant(e)s scolaires qui souhaitent animer le volet HORS-PISTE Orientation auprès de leurs élèves. Notez bien: ce programme doit être animé par une personne professionnelle de l’orientation et peut être coanimé avec une personne intervenante scolaire. \nElle vise à vous familiariser avec le contenu et le matériel de ce volet et vous donner les outils nécessaires pour pouvoir l’animer auprès de vos élèves. \nPour vous inscrire à cette présentation\, cliquez ICI. Un lien zoom vous sera envoyé automatiquement.
URL:https://sante-mentale-jeunesse.usherbrooke.ca/en/evenement/formation-a-lanimation-du-volet-hors-piste-orientation-11/
END:VEVENT
END:VCALENDAR